BEGIN:VCALENDAR
VERSION:2.0
PRODID:-//The Market at the Western Fair District - ECPv6.15.20//NONSGML v1.0//EN
CALSCALE:GREGORIAN
METHOD:PUBLISH
X-WR-CALNAME:The Market at the Western Fair District
X-ORIGINAL-URL:https://themarketwfd.com
X-WR-CALDESC:Events for The Market at the Western Fair District
REFRESH-INTERVAL;VALUE=DURATION:PT1H
X-Robots-Tag:noindex
X-PUBLISHED-TTL:PT1H
BEGIN:VTIMEZONE
TZID:America/Toronto
BEGIN:DAYLIGHT
TZOFFSETFROM:-0500
TZOFFSETTO:-0400
TZNAME:EDT
DTSTART:20250309T070000
END:DAYLIGHT
BEGIN:STANDARD
TZOFFSETFROM:-0400
TZOFFSETTO:-0500
TZNAME:EST
DTSTART:20251102T060000
END:STANDARD
BEGIN:DAYLIGHT
TZOFFSETFROM:-0500
TZOFFSETTO:-0400
TZNAME:EDT
DTSTART:20260308T070000
END:DAYLIGHT
BEGIN:STANDARD
TZOFFSETFROM:-0400
TZOFFSETTO:-0500
TZNAME:EST
DTSTART:20261101T060000
END:STANDARD
BEGIN:DAYLIGHT
TZOFFSETFROM:-0500
TZOFFSETTO:-0400
TZNAME:EDT
DTSTART:20270314T070000
END:DAYLIGHT
BEGIN:STANDARD
TZOFFSETFROM:-0400
TZOFFSETTO:-0500
TZNAME:EST
DTSTART:20271107T060000
END:STANDARD
END:VTIMEZONE
BEGIN:VEVENT
DTSTART;VALUE=DATE:20260321
DTEND;VALUE=DATE:20260323
DTSTAMP:20260422T101650
CREATED:20260318T130335Z
LAST-MODIFIED:20260318T130335Z
UID:4720-1774051200-1774223999@themarketwfd.com
SUMMARY:Harvest Hands - Community Booth
DESCRIPTION:HARVEST HANDS is a non-profit food distribution centre dedicated to ‘rescuing’ food from bakers to retailers to help agencies and thousands of families throughout SW Ontario. Funded entirely by donations and volunteer-driven\, Harvest Hands provides food to over 200 organizations\, agencies and missions\, who in turn\, feed over 60\,000 meals per month. \nStop by our Community Booth this weekend and find out more about this amazing group. Maybe you want to help!
URL:https://themarketwfd.com/event/harvest-hands-community-booth/
ATTACH;FMTTYPE=image/png:https://themarketwfd.com/wp-content/uploads/Harvest-Hands.png
END:VEVENT
END:VCALENDAR