BEGIN:VCALENDAR
VERSION:2.0
PRODID:-//The Market at the Western Fair District - ECPv6.15.20//NONSGML v1.0//EN
CALSCALE:GREGORIAN
METHOD:PUBLISH
X-WR-CALNAME:The Market at the Western Fair District
X-ORIGINAL-URL:https://themarketwfd.com
X-WR-CALDESC:Events for The Market at the Western Fair District
REFRESH-INTERVAL;VALUE=DURATION:PT1H
X-Robots-Tag:noindex
X-PUBLISHED-TTL:PT1H
BEGIN:VTIMEZONE
TZID:America/Toronto
BEGIN:DAYLIGHT
TZOFFSETFROM:-0500
TZOFFSETTO:-0400
TZNAME:EDT
DTSTART:20240310T070000
END:DAYLIGHT
BEGIN:STANDARD
TZOFFSETFROM:-0400
TZOFFSETTO:-0500
TZNAME:EST
DTSTART:20241103T060000
END:STANDARD
BEGIN:DAYLIGHT
TZOFFSETFROM:-0500
TZOFFSETTO:-0400
TZNAME:EDT
DTSTART:20250309T070000
END:DAYLIGHT
BEGIN:STANDARD
TZOFFSETFROM:-0400
TZOFFSETTO:-0500
TZNAME:EST
DTSTART:20251102T060000
END:STANDARD
BEGIN:DAYLIGHT
TZOFFSETFROM:-0500
TZOFFSETTO:-0400
TZNAME:EDT
DTSTART:20260308T070000
END:DAYLIGHT
BEGIN:STANDARD
TZOFFSETFROM:-0400
TZOFFSETTO:-0500
TZNAME:EST
DTSTART:20261101T060000
END:STANDARD
END:VTIMEZONE
BEGIN:VEVENT
DTSTART;VALUE=DATE:20250308
DTEND;VALUE=DATE:20250310
DTSTAMP:20260420T045135
CREATED:20250221T145934Z
LAST-MODIFIED:20250221T145934Z
UID:4155-1741392000-1741564799@themarketwfd.com
SUMMARY:Salthaven Wildlife Rehabilitation & Education Centre
DESCRIPTION:Join us this weekend and meet the wildlife ambassadors from Salthaven. We always enjoy meeting the wildlife and their caretakers.
URL:https://themarketwfd.com/event/salthaven-wildlife-rehabilitation-education-centre/
LOCATION:The Market at the Western Fair District\, 900 King St.\, London\, ON\, N5W 2X7\, Canada
ATTACH;FMTTYPE=image/jpeg:https://themarketwfd.com/wp-content/uploads/348259043_1282501622700063_5159991577850092941_n.jpg
END:VEVENT
END:VCALENDAR