BEGIN:VCALENDAR
VERSION:2.0
PRODID:-//The Market at the Western Fair District - ECPv6.15.20//NONSGML v1.0//EN
CALSCALE:GREGORIAN
METHOD:PUBLISH
X-WR-CALNAME:The Market at the Western Fair District
X-ORIGINAL-URL:https://themarketwfd.com
X-WR-CALDESC:Events for The Market at the Western Fair District
REFRESH-INTERVAL;VALUE=DURATION:PT1H
X-Robots-Tag:noindex
X-PUBLISHED-TTL:PT1H
BEGIN:VTIMEZONE
TZID:America/Toronto
BEGIN:DAYLIGHT
TZOFFSETFROM:-0500
TZOFFSETTO:-0400
TZNAME:EDT
DTSTART:20250309T070000
END:DAYLIGHT
BEGIN:STANDARD
TZOFFSETFROM:-0400
TZOFFSETTO:-0500
TZNAME:EST
DTSTART:20251102T060000
END:STANDARD
BEGIN:DAYLIGHT
TZOFFSETFROM:-0500
TZOFFSETTO:-0400
TZNAME:EDT
DTSTART:20260308T070000
END:DAYLIGHT
BEGIN:STANDARD
TZOFFSETFROM:-0400
TZOFFSETTO:-0500
TZNAME:EST
DTSTART:20261101T060000
END:STANDARD
BEGIN:DAYLIGHT
TZOFFSETFROM:-0500
TZOFFSETTO:-0400
TZNAME:EDT
DTSTART:20270314T070000
END:DAYLIGHT
BEGIN:STANDARD
TZOFFSETFROM:-0400
TZOFFSETTO:-0500
TZNAME:EST
DTSTART:20271107T060000
END:STANDARD
END:VTIMEZONE
BEGIN:VEVENT
DTSTART;VALUE=DATE:20260418
DTEND;VALUE=DATE:20260420
DTSTAMP:20260422T120659
CREATED:20260417T115540Z
LAST-MODIFIED:20260417T115540Z
UID:4734-1776470400-1776643199@themarketwfd.com
SUMMARY:Tag day - Royal Canadian Army Cadet Corps
DESCRIPTION:Once again\, it’s time for the No.9 Royal Canadian Army Cadet Corps to start their seasonal fundraising drive. All funds collected go back into their operating budget to purchase new equipment for special events. Their efforts support and benefit the youth of our community. Please say hello when you see them this weekend.
URL:https://themarketwfd.com/event/tag-day-royal-canadian-army-cadet-corps/
ATTACH;FMTTYPE=image/png:https://themarketwfd.com/wp-content/uploads/RCAC-Tag-Day.png
END:VEVENT
END:VCALENDAR